BEGIN:VCALENDAR
VERSION:2.0
PRODID:-//Plone.org//NONSGML plone.app.event//EN
X-WR-TIMEZONE:Europe/Madrid
BEGIN:VEVENT
SUMMARY:Concert de Nadal a càrrec del Cor de Sant Vicenç\, Estoc de Veus
  i Coral de Matadepera. Concert benèfic a favor de l'Associació Solidàr
 ia Amics de Mantay
DTSTART;VALUE=DATE:20111223
DTEND;VALUE=DATE:20111224
DTSTAMP;VALUE=DATE-TIME:20260423T124401Z
UID:444d5c0f924d4e69910046c36f5ef06f@www.molletvalles.cat
CATEGORIES:Música\, cinema i espectacles
CREATED;VALUE=DATE-TIME:20111209T093308Z
LAST-MODIFIED;VALUE=DATE-TIME:20221221T221618Z
LOCATION:Iglesia de Sant  Vicente
URL:https://www.molletvalles.cat/ca/actualitat/agenda/12868
END:VEVENT
END:VCALENDAR
