BEGIN:VCALENDAR
VERSION:2.0
PRODID:-//Plone.org//NONSGML plone.app.event//EN
X-WR-TIMEZONE:Europe/Madrid
BEGIN:VEVENT
SUMMARY:Concert de Nadal amb la Cobla Jovenívola de Sabadell
DTSTART;VALUE=DATE:20111225
DTEND;VALUE=DATE:20111226
DTSTAMP;VALUE=DATE-TIME:20260423T124303Z
UID:76acef97e88649d0ae8f0b2de726e421@www.molletvalles.cat
CATEGORIES:Música\, cinema i espectacles
CREATED;VALUE=DATE-TIME:20111209T094042Z
LAST-MODIFIED;VALUE=DATE-TIME:20221221T221623Z
URL:https://www.molletvalles.cat/ca/actualitat/agenda/12871
END:VEVENT
END:VCALENDAR
