BEGIN:VCALENDAR
VERSION:2.0
PRODID:-//Plone.org//NONSGML plone.app.event//EN
X-WR-TIMEZONE:Europe/Madrid
BEGIN:VEVENT
SUMMARY:Revetlla de de Cap d'Any\, amb Dj Nostromo Beer Brothers (Dj & Vj)
DTSTART;VALUE=DATE:20120101
DTEND;VALUE=DATE:20120102
DTSTAMP;VALUE=DATE-TIME:20260423T124400Z
UID:f8841acd8d924826ab5a474f4b3745aa@www.molletvalles.cat
CATEGORIES:Actes diversos
CREATED;VALUE=DATE-TIME:20111209T110001Z
LAST-MODIFIED;VALUE=DATE-TIME:20221221T221625Z
URL:https://www.molletvalles.cat/ca/actualitat/agenda/12875
END:VEVENT
END:VCALENDAR
