BEGIN:VCALENDAR
VERSION:2.0
PRODID:-//Plone.org//NONSGML plone.app.event//EN
X-WR-TIMEZONE:Europe/Madrid
BEGIN:VEVENT
SUMMARY:Els reis són la festa
DTSTART;VALUE=DATE:20120105
DTEND;VALUE=DATE:20120106
DTSTAMP;VALUE=DATE-TIME:20260423T124401Z
UID:929f53e73b6748b7ba387eb6a4f66dc3@www.molletvalles.cat
CATEGORIES:Actes diversos
CREATED;VALUE=DATE-TIME:20111209T115443Z
LAST-MODIFIED;VALUE=DATE-TIME:20221221T221631Z
URL:https://www.molletvalles.cat/ca/actualitat/agenda/12880
END:VEVENT
END:VCALENDAR
