BEGIN:VCALENDAR
VERSION:2.0
PRODID:-//Plone.org//NONSGML plone.app.event//EN
X-WR-TIMEZONE:Europe/Madrid
BEGIN:VEVENT
SUMMARY:Inflable infantil per aprendre a reciclar tot jugant
DTSTART;VALUE=DATE:20111221
DTEND;VALUE=DATE:20111222
DTSTAMP;VALUE=DATE-TIME:20260423T133754Z
UID:80758f184699443685f9df95e6dc7260@www.molletvalles.cat
CATEGORIES:Infantils
CREATED;VALUE=DATE-TIME:20111216T131742Z
LAST-MODIFIED;VALUE=DATE-TIME:20221221T221642Z
LOCATION:Plaça Major
URL:https://www.molletvalles.cat/ca/actualitat/agenda/12897
END:VEVENT
END:VCALENDAR
