BEGIN:VCALENDAR
VERSION:2.0
PRODID:-//Plone.org//NONSGML plone.app.event//EN
X-WR-TIMEZONE:Europe/Madrid
BEGIN:VEVENT
SUMMARY:Festa de Nadal del Projecte de voluntariat AL TEU COSTAT
DTSTART;VALUE=DATE:20111222
DTEND;VALUE=DATE:20111223
DTSTAMP;VALUE=DATE-TIME:20260423T124855Z
UID:100a0330c98143f3aee4429182832931@www.molletvalles.cat
CATEGORIES:Actes diversos
CREATED;VALUE=DATE-TIME:20111219T133118Z
LAST-MODIFIED;VALUE=DATE-TIME:20221221T221642Z
URL:https://www.molletvalles.cat/ca/actualitat/agenda/12898
END:VEVENT
END:VCALENDAR
