BEGIN:VCALENDAR
VERSION:2.0
PRODID:-//Plone.org//NONSGML plone.app.event//EN
X-WR-TIMEZONE:Europe/Madrid
BEGIN:VEVENT
SUMMARY:Carnaval 2012: Ball de la Gent Gran
DTSTART;VALUE=DATE:20120218
DTEND;VALUE=DATE:20120219
DTSTAMP;VALUE=DATE-TIME:20260423T124457Z
UID:e4b56c2735e24b28a0700a82ecb6c0e1@www.molletvalles.cat
CATEGORIES:Festes populars
CREATED;VALUE=DATE-TIME:20120203T140138Z
LAST-MODIFIED;VALUE=DATE-TIME:20221221T222148Z
URL:https://www.molletvalles.cat/ca/actualitat/agenda/13018
END:VEVENT
END:VCALENDAR
