BEGIN:VCALENDAR
VERSION:2.0
PRODID:-//Plone.org//NONSGML plone.app.event//EN
X-WR-TIMEZONE:Europe/Madrid
BEGIN:VEVENT
SUMMARY:Exposició: Obres de les entitats "Per Nosaltres Mateixes" i "Done
 s Més Enllà de Casa"
DTSTART;VALUE=DATE:20120302
DTEND;VALUE=DATE:20120303
DTSTAMP;VALUE=DATE-TIME:20260423T133605Z
UID:b6c363a500924869bca654307e714f9b@www.molletvalles.cat
CATEGORIES:Exposicions i fires
CREATED;VALUE=DATE-TIME:20120224T134219Z
LAST-MODIFIED;VALUE=DATE-TIME:20221221T222458Z
URL:https://www.molletvalles.cat/ca/actualitat/agenda/13076
END:VEVENT
END:VCALENDAR
