BEGIN:VCALENDAR
VERSION:2.0
PRODID:-//Plone.org//NONSGML plone.app.event//EN
X-WR-TIMEZONE:Europe/Madrid
BEGIN:VEVENT
SUMMARY:6a Mostra Internacional de Titelles 2012: Espectacle itinerant "Ci
 rcumloqui" a càrrec de la Cia Ne me titere pas
DTSTART;VALUE=DATE:20120414
DTEND;VALUE=DATE:20120415
DTSTAMP;VALUE=DATE-TIME:20260423T124743Z
UID:707b467af9db44988daca473490b4698@www.molletvalles.cat
CATEGORIES:Música\, cinema i espectacles
CREATED;VALUE=DATE-TIME:20120402T070740Z
LAST-MODIFIED;VALUE=DATE-TIME:20221221T223040Z
LOCATION:De Rambla Fiveller a Prat de la Riba
URL:https://www.molletvalles.cat/ca/actualitat/agenda/13191
END:VEVENT
END:VCALENDAR
