BEGIN:VCALENDAR
VERSION:2.0
PRODID:-//Plone.org//NONSGML plone.app.event//EN
X-WR-TIMEZONE:Europe/Madrid
BEGIN:VEVENT
SUMMARY:Ballada de sardanes amb la cobla Ciutat de Terrassa
DTSTART;VALUE=DATE:20121021
DTEND;VALUE=DATE:20121022
DTSTAMP;VALUE=DATE-TIME:20260423T152614Z
UID:b52d65568f734bccae6cfd616866f157@www.molletvalles.cat
CATEGORIES:Música\, cinema i espectacles
CREATED;VALUE=DATE-TIME:20120411T100101Z
LAST-MODIFIED;VALUE=DATE-TIME:20221221T223400Z
LOCATION:Plaça de Catalunya
URL:https://www.molletvalles.cat/ca/actualitat/agenda/13250
END:VEVENT
END:VCALENDAR
