BEGIN:VCALENDAR
VERSION:2.0
PRODID:-//Plone.org//NONSGML plone.app.event//EN
X-WR-TIMEZONE:Europe/Madrid
BEGIN:VEVENT
SUMMARY:Un món de músiques: Delícies de Brasil
DTSTART;VALUE=DATE:20120601
DTEND;VALUE=DATE:20120602
DTSTAMP;VALUE=DATE-TIME:20260425T124252Z
UID:585c555f40e54ce1853d55a4d462de9a@www.molletvalles.cat
CATEGORIES:Música\, cinema i espectacles
CREATED;VALUE=DATE-TIME:20120423T084958Z
LAST-MODIFIED;VALUE=DATE-TIME:20221221T223556Z
URL:https://www.molletvalles.cat/ca/actualitat/agenda/13277
END:VEVENT
END:VCALENDAR
