BEGIN:VCALENDAR
VERSION:2.0
PRODID:-//Plone.org//NONSGML plone.app.event//EN
X-WR-TIMEZONE:Europe/Madrid
BEGIN:VEVENT
SUMMARY:Taller del programa Cuidem-nos: Les emocions\, què ens diuen?
DTSTART;VALUE=DATE:20120703
DTEND;VALUE=DATE:20120704
DTSTAMP;VALUE=DATE-TIME:20260423T152610Z
UID:5cc767c5a8aa4896980e6c9e10939f98@www.molletvalles.cat
CATEGORIES:Cursos i tallers
CREATED;VALUE=DATE-TIME:20120619T083748Z
LAST-MODIFIED;VALUE=DATE-TIME:20221221T224205Z
URL:https://www.molletvalles.cat/ca/actualitat/agenda/13388
END:VEVENT
END:VCALENDAR
