BEGIN:VCALENDAR
VERSION:2.0
PRODID:-//Plone.org//NONSGML plone.app.event//EN
X-WR-TIMEZONE:Europe/Madrid
BEGIN:VEVENT
SUMMARY:Bibliojardí: Xerrada. La volta als Annapurnas. Un circuit per l'H
 imàlaia\, del tròpic a les glaceres\, paisatge i gent a càrrec de Manel
  Domènech i Mir\, enginyer tècnic i periodista.
DTSTART;VALUE=DATE:20120703
DTEND;VALUE=DATE:20120704
DTSTAMP;VALUE=DATE-TIME:20260423T152603Z
UID:f4833ff66bce4f189dcc1aa495f1ebc5@www.molletvalles.cat
CATEGORIES:Conferències
CREATED;VALUE=DATE-TIME:20120704T095024Z
LAST-MODIFIED;VALUE=DATE-TIME:20221221T224259Z
URL:https://www.molletvalles.cat/ca/actualitat/agenda/13413
END:VEVENT
END:VCALENDAR
