BEGIN:VCALENDAR
VERSION:2.0
PRODID:-//Plone.org//NONSGML plone.app.event//EN
X-WR-TIMEZONE:Europe/Madrid
BEGIN:VEVENT
SUMMARY:Festa Major 2012: 4a Subhasta de nois torrats
DTSTART;VALUE=DATE:20120821
DTEND;VALUE=DATE:20120822
DTSTAMP;VALUE=DATE-TIME:20260419T164047Z
UID:6a5bd59538b144158b40e94776b9c2ee@www.molletvalles.cat
CATEGORIES:Festes populars
CREATED;VALUE=DATE-TIME:20120730T082232Z
LAST-MODIFIED;VALUE=DATE-TIME:20221221T224741Z
URL:https://www.molletvalles.cat/ca/actualitat/agenda/13516
END:VEVENT
END:VCALENDAR
