BEGIN:VCALENDAR
VERSION:2.0
PRODID:-//Plone.org//NONSGML plone.app.event//EN
X-WR-TIMEZONE:Europe/Madrid
BEGIN:VEVENT
SUMMARY:Fira d'Artesans 2012: Inauguració de la Fira d'Artesans i present
 ació de l'exposició "Patchwork"
DTSTART;VALUE=DATE:20120914
DTEND;VALUE=DATE:20120915
DTSTAMP;VALUE=DATE-TIME:20260421T160818Z
UID:18c04dfd611642f3b1e1003055b7b521@www.molletvalles.cat
CATEGORIES:Exposicions i fires
CREATED;VALUE=DATE-TIME:20120731T101631Z
LAST-MODIFIED;VALUE=DATE-TIME:20221221T224802Z
URL:https://www.molletvalles.cat/ca/actualitat/agenda/13524
END:VEVENT
END:VCALENDAR
