BEGIN:VCALENDAR
VERSION:2.0
PRODID:-//Plone.org//NONSGML plone.app.event//EN
X-WR-TIMEZONE:Europe/Madrid
BEGIN:VEVENT
SUMMARY:Visual Marineta. Projecció de 'Magiclown'\, de Marina Blasco\; 'E
 l último acto' i 'Al final del dia'\, de  Felipe de la Cruz
DTSTART;VALUE=DATE:20121018
DTEND;VALUE=DATE:20121019
DTSTAMP;VALUE=DATE-TIME:20260423T124856Z
UID:693421c4749943e1927e9893223c2d64@www.molletvalles.cat
CATEGORIES:Música\, cinema i espectacles
CREATED;VALUE=DATE-TIME:20121017T072012Z
LAST-MODIFIED;VALUE=DATE-TIME:20221221T225355Z
URL:https://www.molletvalles.cat/ca/actualitat/agenda/13656
END:VEVENT
END:VCALENDAR
