BEGIN:VCALENDAR
VERSION:2.0
PRODID:-//Plone.org//NONSGML plone.app.event//EN
X-WR-TIMEZONE:Europe/Madrid
BEGIN:VEVENT
SUMMARY:Visual Marineta: Ficción Real (2011)\, d'Alfons Carrasco i Xavi C
 ruzado
DTSTART;VALUE=DATE:20121115
DTEND;VALUE=DATE:20121116
DTSTAMP;VALUE=DATE-TIME:20260423T133719Z
UID:20d84d4980ec4a07b00f3490d8c46586@www.molletvalles.cat
CATEGORIES:Música\, cinema i espectacles
CREATED;VALUE=DATE-TIME:20121022T131150Z
LAST-MODIFIED;VALUE=DATE-TIME:20221221T225444Z
URL:https://www.molletvalles.cat/ca/actualitat/agenda/13669
END:VEVENT
END:VCALENDAR
