BEGIN:VCALENDAR
VERSION:2.0
PRODID:-//Plone.org//NONSGML plone.app.event//EN
X-WR-TIMEZONE:Europe/Madrid
BEGIN:VEVENT
SUMMARY:Sant Vicenç 2013: Inici dels actes de commemoració del centenari
  de la Coral El Clavell 1913-2013
DTSTART;VALUE=DATE:20130120
DTEND;VALUE=DATE:20130121
DTSTAMP;VALUE=DATE-TIME:20260421T160818Z
UID:abbe554a9fb04524bd6f964655e1a8a0@www.molletvalles.cat
CATEGORIES:Música\, cinema i espectacles
CREATED;VALUE=DATE-TIME:20121218T084722Z
LAST-MODIFIED;VALUE=DATE-TIME:20221221T230240Z
LOCATION:Església de Sant Vicenç
URL:https://www.molletvalles.cat/ca/actualitat/agenda/13829
END:VEVENT
END:VCALENDAR
