BEGIN:VCALENDAR
VERSION:2.0
PRODID:-//Plone.org//NONSGML plone.app.event//EN
X-WR-TIMEZONE:Europe/Madrid
BEGIN:VEVENT
SUMMARY:Campionat de Catalunya d'Escacs per Equips 2013
DTSTART;VALUE=DATE:20130224
DTEND;VALUE=DATE:20130225
DTSTAMP;VALUE=DATE-TIME:20260423T124401Z
UID:b414a92ae9274863ac28d9b47ecdf940@www.molletvalles.cat
CATEGORIES:Esports
CREATED;VALUE=DATE-TIME:20130118T125019Z
LAST-MODIFIED;VALUE=DATE-TIME:20221221T230615Z
URL:https://www.molletvalles.cat/ca/actualitat/agenda/13896
END:VEVENT
END:VCALENDAR
