BEGIN:VCALENDAR
VERSION:2.0
PRODID:-//Plone.org//NONSGML plone.app.event//EN
X-WR-TIMEZONE:Europe/Madrid
BEGIN:VEVENT
SUMMARY:Xerrada: Les hipoteques i la problemàtica de les “clàusules s
 òl”
DTSTART;VALUE=DATE:20130207
DTEND;VALUE=DATE:20130208
DTSTAMP;VALUE=DATE-TIME:20260423T104149Z
UID:dc1b1253285b4f9cb517a8e809c91997@www.molletvalles.cat
CATEGORIES:Conferències
CREATED;VALUE=DATE-TIME:20130125T092340Z
LAST-MODIFIED;VALUE=DATE-TIME:20221221T230653Z
URL:https://www.molletvalles.cat/ca/actualitat/agenda/13913
END:VEVENT
END:VCALENDAR
