BEGIN:VCALENDAR
VERSION:2.0
PRODID:-//Plone.org//NONSGML plone.app.event//EN
X-WR-TIMEZONE:Europe/Madrid
BEGIN:VEVENT
SUMMARY:Presentació del llibre: "Operación Urraca"\, de l'autor local Ra
 ul Rivas
DTSTART;VALUE=DATE:20130227
DTEND;VALUE=DATE:20130228
DTSTAMP;VALUE=DATE-TIME:20260419T164004Z
UID:9e7a72d51555472ea654d5025148e6d6@www.molletvalles.cat
CATEGORIES:Conferències
CREATED;VALUE=DATE-TIME:20130130T134742Z
LAST-MODIFIED;VALUE=DATE-TIME:20221221T230724Z
URL:https://www.molletvalles.cat/ca/actualitat/agenda/13924
END:VEVENT
END:VCALENDAR
