BEGIN:VCALENDAR
VERSION:2.0
PRODID:-//Plone.org//NONSGML plone.app.event//EN
X-WR-TIMEZONE:Europe/Madrid
BEGIN:VEVENT
SUMMARY:Mercadet de col·leccionistes
DTSTART;VALUE=DATE:20130303
DTEND;VALUE=DATE:20130304
DTSTAMP;VALUE=DATE-TIME:20260419T163919Z
UID:91a9ba850615406cb75105f647b00439@www.molletvalles.cat
CATEGORIES:Exposicions i fires
CREATED;VALUE=DATE-TIME:20130226T123815Z
LAST-MODIFIED;VALUE=DATE-TIME:20221221T231059Z
LOCATION:Rambla Fiveller\, Balmes i carrer Barcelona
URL:https://www.molletvalles.cat/ca/actualitat/agenda/13996
END:VEVENT
END:VCALENDAR
