BEGIN:VCALENDAR
VERSION:2.0
PRODID:-//Plone.org//NONSGML plone.app.event//EN
X-WR-TIMEZONE:Europe/Madrid
BEGIN:VEVENT
SUMMARY:Processó de Setmana Santa a Mollet
DTSTART;VALUE=DATE:20130323
DTEND;VALUE=DATE:20130324
DTSTAMP;VALUE=DATE-TIME:20260421T105312Z
UID:15267f3a954340fd8ee78fcb849adec5@www.molletvalles.cat
CATEGORIES:Festes populars
CREATED;VALUE=DATE-TIME:20130228T142923Z
LAST-MODIFIED;VALUE=DATE-TIME:20221221T231130Z
LOCATION:Sortida de Can Gomà i recorregut per carrers de la ciutat
URL:https://www.molletvalles.cat/ca/actualitat/agenda/14005
END:VEVENT
END:VCALENDAR
