BEGIN:VCALENDAR
VERSION:2.0
PRODID:-//Plone.org//NONSGML plone.app.event//EN
X-WR-TIMEZONE:Europe/Madrid
BEGIN:VEVENT
SUMMARY:7a Mostra Internacional de Titelles:"En Bernat el pescador"\, a c
 àrrec de la Cia. Galiot Teatre
DTSTART;VALUE=DATE:20130405
DTEND;VALUE=DATE:20130406
DTSTAMP;VALUE=DATE-TIME:20260423T124854Z
UID:57da76046c054ffb94e7ed49dbcaffd6@www.molletvalles.cat
CATEGORIES:Música\, cinema i espectacles
CREATED;VALUE=DATE-TIME:20130319T115840Z
LAST-MODIFIED;VALUE=DATE-TIME:20221221T231422Z
LOCATION:Plaça Prat de la Riba
URL:https://www.molletvalles.cat/ca/actualitat/agenda/14065
END:VEVENT
END:VCALENDAR
