BEGIN:VCALENDAR
VERSION:2.0
PRODID:-//Plone.org//NONSGML plone.app.event//EN
X-WR-TIMEZONE:Europe/Madrid
BEGIN:VEVENT
SUMMARY:Sopar i espectacle: Cosas en las que me fijo (monòleg)\, a càrre
 c d'Andreu Casanovas
DTSTART;VALUE=DATE:20130510
DTEND;VALUE=DATE:20130511
DTSTAMP;VALUE=DATE-TIME:20260423T124653Z
UID:82df307eadb046b6b81d3df8b0c06967@www.molletvalles.cat
CATEGORIES:Música\, cinema i espectacles
CREATED;VALUE=DATE-TIME:20130326T104937Z
LAST-MODIFIED;VALUE=DATE-TIME:20221221T231759Z
URL:https://www.molletvalles.cat/ca/actualitat/agenda/14122
END:VEVENT
END:VCALENDAR
