BEGIN:VCALENDAR
VERSION:2.0
PRODID:-//Plone.org//NONSGML plone.app.event//EN
X-WR-TIMEZONE:Europe/Madrid
BEGIN:VEVENT
SUMMARY:Sant Jordi 2013: Lliurament de premis del 10è Concurs de Dibuix d
 e Punts de Llibre
DTSTART;VALUE=DATE:20130423
DTEND;VALUE=DATE:20130424
DTSTAMP;VALUE=DATE-TIME:20260423T124711Z
UID:c29a5c468d7d4901ae76dea0e31a1bcc@www.molletvalles.cat
CATEGORIES:Infantils
CREATED;VALUE=DATE-TIME:20130409T114842Z
LAST-MODIFIED;VALUE=DATE-TIME:20221221T231942Z
LOCATION:Parc de les Pruneres
URL:https://www.molletvalles.cat/ca/actualitat/agenda/14149
END:VEVENT
END:VCALENDAR
