BEGIN:VCALENDAR
VERSION:2.0
PRODID:-//Plone.org//NONSGML plone.app.event//EN
X-WR-TIMEZONE:Europe/Madrid
BEGIN:VEVENT
SUMMARY:Sant Jordi 2013: Concert coral amb Centre i Energia de la Roca i C
 oral Capella de Música Santa Maria
DTSTART;VALUE=DATE:20130428
DTEND;VALUE=DATE:20130429
DTSTAMP;VALUE=DATE-TIME:20260419T163713Z
UID:53264abe0a4c4f2096885c23abdc72ba@www.molletvalles.cat
CATEGORIES:Música\, cinema i espectacles
CREATED;VALUE=DATE-TIME:20130409T132621Z
LAST-MODIFIED;VALUE=DATE-TIME:20221221T231947Z
LOCATION:Església de Sant Vicenç
URL:https://www.molletvalles.cat/ca/actualitat/agenda/14151
END:VEVENT
END:VCALENDAR
