BEGIN:VCALENDAR
VERSION:2.0
PRODID:-//Plone.org//NONSGML plone.app.event//EN
X-WR-TIMEZONE:Europe/Madrid
BEGIN:VEVENT
SUMMARY:XVII Caminada per la Serralada de Marina
DTSTART;VALUE=DATE:20130512
DTEND;VALUE=DATE:20130513
DTSTAMP;VALUE=DATE-TIME:20260423T124303Z
UID:243a223d6eef487dbe21e9a3ba4c96f6@www.molletvalles.cat
CATEGORIES:Esports
CREATED;VALUE=DATE-TIME:20130412T081231Z
LAST-MODIFIED;VALUE=DATE-TIME:20221221T232005Z
LOCATION:Serralada de Marina
URL:https://www.molletvalles.cat/ca/actualitat/agenda/14155
END:VEVENT
END:VCALENDAR
