BEGIN:VCALENDAR
VERSION:2.0
PRODID:-//Plone.org//NONSGML plone.app.event//EN
X-WR-TIMEZONE:Europe/Madrid
BEGIN:VEVENT
SUMMARY:Club de lectura: "El quinto en discordia"\, de Robertson Davies
DTSTART;VALUE=DATE:20130507
DTEND;VALUE=DATE:20130508
DTSTAMP;VALUE=DATE-TIME:20260423T133718Z
UID:3cac116792d746bdafb215b6607f79cc@www.molletvalles.cat
CATEGORIES:Juvenils
CREATED;VALUE=DATE-TIME:20130503T072002Z
LAST-MODIFIED;VALUE=DATE-TIME:20221221T232227Z
URL:https://www.molletvalles.cat/ca/actualitat/agenda/14194
END:VEVENT
END:VCALENDAR
