BEGIN:VCALENDAR
VERSION:2.0
PRODID:-//Plone.org//NONSGML plone.app.event//EN
X-WR-TIMEZONE:Europe/Madrid
BEGIN:VEVENT
SUMMARY:Sala d'estudi. Espais per estudiar durant els períodes més inten
 sos d'exàmens
DTSTART;VALUE=DATE:20130506
DTEND;VALUE=DATE:20130507
DTSTAMP;VALUE=DATE-TIME:20260423T104115Z
UID:5ae4c4476135451ba49cf1034bc03d53@www.molletvalles.cat
CATEGORIES:Actes diversos
CREATED;VALUE=DATE-TIME:20130503T083353Z
LAST-MODIFIED;VALUE=DATE-TIME:20221221T232237Z
URL:https://www.molletvalles.cat/ca/actualitat/agenda/14197
END:VEVENT
END:VCALENDAR
