BEGIN:VCALENDAR
VERSION:2.0
PRODID:-//Plone.org//NONSGML plone.app.event//EN
X-WR-TIMEZONE:Europe/Madrid
BEGIN:VEVENT
SUMMARY:Sessió informativa: Vols crear una empresa?\, a càrrec d'EMFO
DTSTART;VALUE=DATE:20130530
DTEND;VALUE=DATE:20130531
DTSTAMP;VALUE=DATE-TIME:20260423T133721Z
UID:f6c8d96be58f4b43bf3b70b01cbfb866@www.molletvalles.cat
CATEGORIES:Conferències
CREATED;VALUE=DATE-TIME:20130506T132517Z
LAST-MODIFIED;VALUE=DATE-TIME:20221221T232316Z
URL:https://www.molletvalles.cat/ca/actualitat/agenda/14208
END:VEVENT
END:VCALENDAR
