BEGIN:VCALENDAR
VERSION:2.0
PRODID:-//Plone.org//NONSGML plone.app.event//EN
X-WR-TIMEZONE:Europe/Madrid
BEGIN:VEVENT
SUMMARY:Sortida amb autocar a Reus per visitar l'exposició "Fortuny\, el 
 mite"
DTSTART;VALUE=DATE:20130615
DTEND;VALUE=DATE:20130616
DTSTAMP;VALUE=DATE-TIME:20260425T122934Z
UID:3dbb603a83124adeac4320600a441fc3@www.molletvalles.cat
CATEGORIES:Sortides i excursions
CREATED;VALUE=DATE-TIME:20130516T071849Z
LAST-MODIFIED;VALUE=DATE-TIME:20221221T232501Z
URL:https://www.molletvalles.cat/ca/actualitat/agenda/14245
END:VEVENT
END:VCALENDAR
