BEGIN:VCALENDAR
VERSION:2.0
PRODID:-//Plone.org//NONSGML plone.app.event//EN
X-WR-TIMEZONE:Europe/Madrid
BEGIN:VEVENT
SUMMARY:Sant Joan 2013: Sopar popular (porta el sopar\, la taula i la cadi
 ra i afegeix-te a la festa)
DTSTART;VALUE=DATE:20130623
DTEND;VALUE=DATE:20130624
DTSTAMP;VALUE=DATE-TIME:20260425T122907Z
UID:55190ea1865f4207a51aceda794f6f5b@www.molletvalles.cat
CATEGORIES:Festes populars
CREATED;VALUE=DATE-TIME:20130516T102900Z
LAST-MODIFIED;VALUE=DATE-TIME:20221221T232504Z
LOCATION:Parc de Ca l'Estrada
URL:https://www.molletvalles.cat/ca/actualitat/agenda/14246
END:VEVENT
END:VCALENDAR
