BEGIN:VCALENDAR
VERSION:2.0
PRODID:-//Plone.org//NONSGML plone.app.event//EN
X-WR-TIMEZONE:Europe/Madrid
BEGIN:VEVENT
SUMMARY:Sant Joan 2013: Encesa de la foguera a càrrec de Teresa Sala i a 
 continuació\, revetlla amb DJ
DTSTART;VALUE=DATE:20130623
DTEND;VALUE=DATE:20130624
DTSTAMP;VALUE=DATE-TIME:20260423T124744Z
UID:1f5f5ef1ef53447eaa8e212c80d9b362@www.molletvalles.cat
CATEGORIES:Festes populars
CREATED;VALUE=DATE-TIME:20130516T103416Z
LAST-MODIFIED;VALUE=DATE-TIME:20221221T232506Z
LOCATION:Parc de Ca l'Estrada
URL:https://www.molletvalles.cat/ca/actualitat/agenda/14247
END:VEVENT
END:VCALENDAR
