BEGIN:VCALENDAR
VERSION:2.0
PRODID:-//Plone.org//NONSGML plone.app.event//EN
X-WR-TIMEZONE:Europe/Madrid
BEGIN:VEVENT
SUMMARY:Directe al Cívic: Concert de pop/rock
DTSTART;VALUE=DATE:20130726
DTEND;VALUE=DATE:20130727
DTSTAMP;VALUE=DATE-TIME:20260419T163959Z
UID:39641c1cfa6842cea35497418aacb42d@www.molletvalles.cat
CATEGORIES:Juvenils
CREATED;VALUE=DATE-TIME:20130529T072239Z
LAST-MODIFIED;VALUE=DATE-TIME:20221221T232754Z
URL:https://www.molletvalles.cat/ca/actualitat/agenda/14288
END:VEVENT
END:VCALENDAR
