BEGIN:VCALENDAR
VERSION:2.0
PRODID:-//Plone.org//NONSGML plone.app.event//EN
X-WR-TIMEZONE:Europe/Madrid
BEGIN:VEVENT
SUMMARY:"Parlem-ne: xerrada sobre la mediació"
DTSTART;VALUE=DATE:20130613
DTEND;VALUE=DATE:20130614
DTSTAMP;VALUE=DATE-TIME:20260423T124652Z
UID:c52ef2f31af84594b436194b0dc0b661@www.molletvalles.cat
CATEGORIES:Conferències
CREATED;VALUE=DATE-TIME:20130604T083124Z
LAST-MODIFIED;VALUE=DATE-TIME:20221221T232854Z
URL:https://www.molletvalles.cat/ca/actualitat/agenda/14311
END:VEVENT
END:VCALENDAR
