BEGIN:VCALENDAR
VERSION:2.0
PRODID:-//Plone.org//NONSGML plone.app.event//EN
X-WR-TIMEZONE:Europe/Madrid
BEGIN:VEVENT
SUMMARY:Concurs per al disseny del cartell de la Festa Major 2013
DTSTART;VALUE=DATE:20130604
DTEND;VALUE=DATE:20130605
DTSTAMP;VALUE=DATE-TIME:20260423T124744Z
UID:a18d16c135764f0aa7b5f63aa5cfed70@www.molletvalles.cat
CATEGORIES:Concursos i premis
CREATED;VALUE=DATE-TIME:20130604T121007Z
LAST-MODIFIED;VALUE=DATE-TIME:20221221T232912Z
URL:https://www.molletvalles.cat/ca/actualitat/agenda/14317
END:VEVENT
END:VCALENDAR
