BEGIN:VCALENDAR
VERSION:2.0
PRODID:-//Plone.org//NONSGML plone.app.event//EN
X-WR-TIMEZONE:Europe/Madrid
BEGIN:VEVENT
SUMMARY:12 hores de Futbol 7 de la UD Molletense
DTSTART;VALUE=DATE:20130622
DTEND;VALUE=DATE:20130623
DTSTAMP;VALUE=DATE-TIME:20260423T124751Z
UID:2a44aadd81f44d88b94596c68db625c3@www.molletvalles.cat
CATEGORIES:Esports
CREATED;VALUE=DATE-TIME:20130604T132027Z
LAST-MODIFIED;VALUE=DATE-TIME:20221221T232920Z
URL:https://www.molletvalles.cat/ca/actualitat/agenda/14320
END:VEVENT
END:VCALENDAR
