BEGIN:VCALENDAR
VERSION:2.0
PRODID:-//Plone.org//NONSGML plone.app.event//EN
X-WR-TIMEZONE:Europe/Madrid
BEGIN:VEVENT
SUMMARY:Concert de música sacra dels segles XX i XXI
DTSTART;VALUE=DATE:20130928
DTEND;VALUE=DATE:20130929
DTSTAMP;VALUE=DATE-TIME:20260423T124744Z
UID:f7faa4b994564a3ea455deb2572bcc04@www.molletvalles.cat
CATEGORIES:Música\, cinema i espectacles
CREATED;VALUE=DATE-TIME:20130606T102110Z
LAST-MODIFIED;VALUE=DATE-TIME:20221221T232931Z
LOCATION:Església de Sant Vicenç
URL:https://www.molletvalles.cat/ca/actualitat/agenda/14325
END:VEVENT
END:VCALENDAR
