BEGIN:VCALENDAR
VERSION:2.0
PRODID:-//Plone.org//NONSGML plone.app.event//EN
X-WR-TIMEZONE:Europe/Madrid
BEGIN:VEVENT
SUMMARY:Sessió informativa: Vols crear una empresa? a càrrec d'EMFO
DTSTART;VALUE=DATE:20130627
DTEND;VALUE=DATE:20130628
DTSTAMP;VALUE=DATE-TIME:20260423T124749Z
UID:25c12dc69a704d81b578c6cdb7fe78bf@www.molletvalles.cat
CATEGORIES:Conferències
CREATED;VALUE=DATE-TIME:20130610T064251Z
LAST-MODIFIED;VALUE=DATE-TIME:20221221T232949Z
URL:https://www.molletvalles.cat/ca/actualitat/agenda/14332
END:VEVENT
END:VCALENDAR
