BEGIN:VCALENDAR
VERSION:2.0
PRODID:-//Plone.org//NONSGML plone.app.event//EN
X-WR-TIMEZONE:Europe/Madrid
BEGIN:VEVENT
SUMMARY:Inscripció al Curs de català de nivell D
DTSTART;VALUE=DATE:20130917
DTEND;VALUE=DATE:20130918
DTSTAMP;VALUE=DATE-TIME:20260423T124457Z
UID:d58a3500663149ed8fcff2e83981cbfb@www.molletvalles.cat
CATEGORIES:Cursos i tallers
CREATED;VALUE=DATE-TIME:20130610T131803Z
LAST-MODIFIED;VALUE=DATE-TIME:20221221T233007Z
URL:https://www.molletvalles.cat/ca/actualitat/agenda/14340
END:VEVENT
END:VCALENDAR
