BEGIN:VCALENDAR
VERSION:2.0
PRODID:-//Plone.org//NONSGML plone.app.event//EN
X-WR-TIMEZONE:Europe/Madrid
BEGIN:VEVENT
SUMMARY:Cicle de tertúlies "L’hora del te": Abelló i els amics
DTSTART;VALUE=DATE:20130614
DTEND;VALUE=DATE:20130615
DTSTAMP;VALUE=DATE-TIME:20260423T124423Z
UID:cd35daca03904c96abb0021d25b51152@www.molletvalles.cat
CATEGORIES:Conferències
CREATED;VALUE=DATE-TIME:20130613T111728Z
LAST-MODIFIED;VALUE=DATE-TIME:20221221T233050Z
URL:https://www.molletvalles.cat/ca/actualitat/agenda/14355
END:VEVENT
END:VCALENDAR
