BEGIN:VCALENDAR
VERSION:2.0
PRODID:-//Plone.org//NONSGML plone.app.event//EN
X-WR-TIMEZONE:Europe/Madrid
BEGIN:VEVENT
SUMMARY:Cursa Nocturna a Gallecs
DTSTART;VALUE=DATE:20130713
DTEND;VALUE=DATE:20130714
DTSTAMP;VALUE=DATE-TIME:20260423T124745Z
UID:af89202549984cab9ab90528abc0c346@www.molletvalles.cat
CATEGORIES:Esports
CREATED;VALUE=DATE-TIME:20130703T080232Z
LAST-MODIFIED;VALUE=DATE-TIME:20221221T233144Z
LOCATION:Sortida de la pista d'atletisme
URL:https://www.molletvalles.cat/ca/actualitat/agenda/14372
END:VEVENT
END:VCALENDAR
