BEGIN:VCALENDAR
VERSION:2.0
PRODID:-//Plone.org//NONSGML plone.app.event//EN
X-WR-TIMEZONE:Europe/Madrid
BEGIN:VEVENT
SUMMARY:Festa Major 2013: Ball del Moll Fer
DTSTART;VALUE=DATE:20130817
DTEND;VALUE=DATE:20130818
DTSTAMP;VALUE=DATE-TIME:20260423T133718Z
UID:528f76d9317d4726b2441ba2ae35b18b@www.molletvalles.cat
CATEGORIES:Festes populars
CREATED;VALUE=DATE-TIME:20130711T075605Z
LAST-MODIFIED;VALUE=DATE-TIME:20221221T233304Z
LOCATION:Plaça Prat de la Riba
URL:https://www.molletvalles.cat/ca/actualitat/agenda/14412
END:VEVENT
END:VCALENDAR
