BEGIN:VCALENDAR
VERSION:2.0
PRODID:-//Plone.org//NONSGML plone.app.event//EN
X-WR-TIMEZONE:Europe/Madrid
BEGIN:VEVENT
SUMMARY:Festa Major 2013: Concert a la terrassa del Museu a càrrec de "In
  the mood trio"
DTSTART;VALUE=DATE:20130818
DTEND;VALUE=DATE:20130819
DTSTAMP;VALUE=DATE-TIME:20260421T160818Z
UID:6b301ed6cc204daeb3003cbe8ca881b3@www.molletvalles.cat
CATEGORIES:Festes populars
CREATED;VALUE=DATE-TIME:20130715T104348Z
LAST-MODIFIED;VALUE=DATE-TIME:20221221T233404Z
URL:https://www.molletvalles.cat/ca/actualitat/agenda/14435
END:VEVENT
END:VCALENDAR
