BEGIN:VCALENDAR
VERSION:2.0
PRODID:-//Plone.org//NONSGML plone.app.event//EN
X-WR-TIMEZONE:Europe/Madrid
BEGIN:VEVENT
SUMMARY:Festa Major 2013: Ballada de Sardanes amb la Cobla Jovenívola de 
 Sabadell
DTSTART;VALUE=DATE:20130818
DTEND;VALUE=DATE:20130819
DTSTAMP;VALUE=DATE-TIME:20260419T164041Z
UID:126f9c1831b746a59e169cc4cda8e52e@www.molletvalles.cat
CATEGORIES:Festes populars
CREATED;VALUE=DATE-TIME:20130715T124810Z
LAST-MODIFIED;VALUE=DATE-TIME:20221221T233414Z
LOCATION:Plaça Catalunya
URL:https://www.molletvalles.cat/ca/actualitat/agenda/14439
END:VEVENT
END:VCALENDAR
