BEGIN:VCALENDAR
VERSION:2.0
PRODID:-//Plone.org//NONSGML plone.app.event//EN
X-WR-TIMEZONE:Europe/Madrid
BEGIN:VEVENT
SUMMARY:Festa de la Solidaritat
DTSTART;VALUE=DATE:20130914
DTEND;VALUE=DATE:20130915
DTSTAMP;VALUE=DATE-TIME:20260423T124854Z
UID:d271909f934a4062b46c8437d8064ecb@www.molletvalles.cat
CATEGORIES:Festes populars
CREATED;VALUE=DATE-TIME:20130730T070911Z
LAST-MODIFIED;VALUE=DATE-TIME:20221221T233643Z
LOCATION:Plaça Prat de la Riba
URL:https://www.molletvalles.cat/ca/actualitat/agenda/14498
END:VEVENT
END:VCALENDAR
