BEGIN:VCALENDAR
VERSION:2.0
PRODID:-//Plone.org//NONSGML plone.app.event//EN
X-WR-TIMEZONE:Europe/Madrid
BEGIN:VEVENT
SUMMARY:Fira d'Artesans 2013: Cantada d'havaneres i cremat de rom\, a càr
 rec de Grup Norai
DTSTART;VALUE=DATE:20130914
DTEND;VALUE=DATE:20130915
DTSTAMP;VALUE=DATE-TIME:20260423T124609Z
UID:869c35bffb7b40bb9a76c76f98060985@www.molletvalles.cat
CATEGORIES:Música\, cinema i espectacles
CREATED;VALUE=DATE-TIME:20130730T103922Z
LAST-MODIFIED;VALUE=DATE-TIME:20221221T233650Z
LOCATION:Plaça de l'Artesania
URL:https://www.molletvalles.cat/ca/actualitat/agenda/14501
END:VEVENT
END:VCALENDAR
