BEGIN:VCALENDAR
VERSION:2.0
PRODID:-//Plone.org//NONSGML plone.app.event//EN
X-WR-TIMEZONE:Europe/Madrid
BEGIN:VEVENT
SUMMARY:Festa de la Solidaritat: Taula rodona i exposició sobre solidarit
 at i cooperació a Mollet
DTSTART;VALUE=DATE:20130912
DTEND;VALUE=DATE:20130913
DTSTAMP;VALUE=DATE-TIME:20260423T133615Z
UID:6419fc85901f4d5a8315e0e9b1e3f9ac@www.molletvalles.cat
CATEGORIES:Exposicions i fires
CREATED;VALUE=DATE-TIME:20130905T100608Z
LAST-MODIFIED;VALUE=DATE-TIME:20221221T233800Z
URL:https://www.molletvalles.cat/ca/actualitat/agenda/14525
END:VEVENT
END:VCALENDAR
