BEGIN:VCALENDAR
VERSION:2.0
PRODID:-//Plone.org//NONSGML plone.app.event//EN
X-WR-TIMEZONE:Europe/Madrid
BEGIN:VEVENT
SUMMARY:Pintem vidre. Taller familiar
DTSTART;VALUE=DATE:20130929
DTEND;VALUE=DATE:20130930
DTSTAMP;VALUE=DATE-TIME:20260423T124750Z
UID:0da4dec5a94447f19e3a147cb2e27a96@www.molletvalles.cat
CATEGORIES:Cursos i tallers
CREATED;VALUE=DATE-TIME:20130916T101435Z
LAST-MODIFIED;VALUE=DATE-TIME:20221221T233832Z
URL:https://www.molletvalles.cat/ca/actualitat/agenda/14543
END:VEVENT
END:VCALENDAR
